
	

BEGIN:VCALENDAR
VERSION:2.0
PRODID:-//RAUM24 - ECPv6.15.11//NONSGML v1.0//EN
CALSCALE:GREGORIAN
METHOD:PUBLISH
X-WR-CALNAME:RAUM24
X-ORIGINAL-URL:https://www.raum24.at
X-WR-CALDESC:Veranstaltungen für RAUM24
REFRESH-INTERVAL;VALUE=DURATION:PT1H
X-Robots-Tag:noindex
X-PUBLISHED-TTL:PT1H
BEGIN:VTIMEZONE
TZID:Europe/Vienna
BEGIN:DAYLIGHT
TZOFFSETFROM:+0100
TZOFFSETTO:+0200
TZNAME:CEST
DTSTART:20250330T010000
END:DAYLIGHT
BEGIN:STANDARD
TZOFFSETFROM:+0200
TZOFFSETTO:+0100
TZNAME:CET
DTSTART:20251026T010000
END:STANDARD
BEGIN:DAYLIGHT
TZOFFSETFROM:+0100
TZOFFSETTO:+0200
TZNAME:CEST
DTSTART:20260329T010000
END:DAYLIGHT
BEGIN:STANDARD
TZOFFSETFROM:+0200
TZOFFSETTO:+0100
TZNAME:CET
DTSTART:20261025T010000
END:STANDARD
BEGIN:DAYLIGHT
TZOFFSETFROM:+0100
TZOFFSETTO:+0200
TZNAME:CEST
DTSTART:20270328T010000
END:DAYLIGHT
BEGIN:STANDARD
TZOFFSETFROM:+0200
TZOFFSETTO:+0100
TZNAME:CET
DTSTART:20271031T010000
END:STANDARD
END:VTIMEZONE
BEGIN:VEVENT
DTSTART;VALUE=DATE:20261001
DTEND;VALUE=DATE:20261002
DTSTAMP:20260424T163626
CREATED:20260326T070453Z
LAST-MODIFIED:20260326T070453Z
UID:10000789-1790812800-1790899199@www.raum24.at
SUMMARY:weightfriends jeden Donnerstag in Zirl
DESCRIPTION:https://www.weightfriends.at/ \n  \nBitte die genaue Workshop Zeit auf der Homepage von weightfriends nachsehen. \n  \n 
URL:https://www.raum24.at/veranstaltung/weightfriends-jeden-donnerstag-in-zirl/2026-10-01/
LOCATION:RAUM24\, Kirchstrasse 24\, Eingang Bahnhofstrasse\, Zirl\, Tirol\, 6170\, Österreich
ATTACH;FMTTYPE=image/png:https://www.raum24.at/raum24/wp-content/uploads/2022/12/Logo-Weight-friends.png
GEO:47.2717501;11.2418175
X-APPLE-STRUCTURED-LOCATION;VALUE=URI;X-ADDRESS=RAUM24 Kirchstrasse 24 Eingang Bahnhofstrasse Zirl Tirol 6170 Österreich;X-APPLE-RADIUS=500;X-TITLE=Kirchstrasse 24\, Eingang Bahnhofstrasse:geo:11.2418175,47.2717501
END:VEVENT
BEGIN:VEVENT
DTSTART;VALUE=DATE:20261008
DTEND;VALUE=DATE:20261009
DTSTAMP:20260424T163626
CREATED:20260326T070453Z
LAST-MODIFIED:20260326T070453Z
UID:10000790-1791417600-1791503999@www.raum24.at
SUMMARY:weightfriends jeden Donnerstag in Zirl
DESCRIPTION:https://www.weightfriends.at/ \n  \nBitte die genaue Workshop Zeit auf der Homepage von weightfriends nachsehen. \n  \n 
URL:https://www.raum24.at/veranstaltung/weightfriends-jeden-donnerstag-in-zirl/2026-10-08/
LOCATION:RAUM24\, Kirchstrasse 24\, Eingang Bahnhofstrasse\, Zirl\, Tirol\, 6170\, Österreich
ATTACH;FMTTYPE=image/png:https://www.raum24.at/raum24/wp-content/uploads/2022/12/Logo-Weight-friends.png
GEO:47.2717501;11.2418175
X-APPLE-STRUCTURED-LOCATION;VALUE=URI;X-ADDRESS=RAUM24 Kirchstrasse 24 Eingang Bahnhofstrasse Zirl Tirol 6170 Österreich;X-APPLE-RADIUS=500;X-TITLE=Kirchstrasse 24\, Eingang Bahnhofstrasse:geo:11.2418175,47.2717501
END:VEVENT
BEGIN:VEVENT
DTSTART;VALUE=DATE:20261015
DTEND;VALUE=DATE:20261016
DTSTAMP:20260424T163626
CREATED:20260326T070453Z
LAST-MODIFIED:20260326T070453Z
UID:10000791-1792022400-1792108799@www.raum24.at
SUMMARY:weightfriends jeden Donnerstag in Zirl
DESCRIPTION:https://www.weightfriends.at/ \n  \nBitte die genaue Workshop Zeit auf der Homepage von weightfriends nachsehen. \n  \n 
URL:https://www.raum24.at/veranstaltung/weightfriends-jeden-donnerstag-in-zirl/2026-10-15/
LOCATION:RAUM24\, Kirchstrasse 24\, Eingang Bahnhofstrasse\, Zirl\, Tirol\, 6170\, Österreich
ATTACH;FMTTYPE=image/png:https://www.raum24.at/raum24/wp-content/uploads/2022/12/Logo-Weight-friends.png
GEO:47.2717501;11.2418175
X-APPLE-STRUCTURED-LOCATION;VALUE=URI;X-ADDRESS=RAUM24 Kirchstrasse 24 Eingang Bahnhofstrasse Zirl Tirol 6170 Österreich;X-APPLE-RADIUS=500;X-TITLE=Kirchstrasse 24\, Eingang Bahnhofstrasse:geo:11.2418175,47.2717501
END:VEVENT
BEGIN:VEVENT
DTSTART;VALUE=DATE:20261022
DTEND;VALUE=DATE:20261023
DTSTAMP:20260424T163626
CREATED:20260326T070453Z
LAST-MODIFIED:20260326T070453Z
UID:10000792-1792627200-1792713599@www.raum24.at
SUMMARY:weightfriends jeden Donnerstag in Zirl
DESCRIPTION:https://www.weightfriends.at/ \n  \nBitte die genaue Workshop Zeit auf der Homepage von weightfriends nachsehen. \n  \n 
URL:https://www.raum24.at/veranstaltung/weightfriends-jeden-donnerstag-in-zirl/2026-10-22/
LOCATION:RAUM24\, Kirchstrasse 24\, Eingang Bahnhofstrasse\, Zirl\, Tirol\, 6170\, Österreich
ATTACH;FMTTYPE=image/png:https://www.raum24.at/raum24/wp-content/uploads/2022/12/Logo-Weight-friends.png
GEO:47.2717501;11.2418175
X-APPLE-STRUCTURED-LOCATION;VALUE=URI;X-ADDRESS=RAUM24 Kirchstrasse 24 Eingang Bahnhofstrasse Zirl Tirol 6170 Österreich;X-APPLE-RADIUS=500;X-TITLE=Kirchstrasse 24\, Eingang Bahnhofstrasse:geo:11.2418175,47.2717501
END:VEVENT
BEGIN:VEVENT
DTSTART;VALUE=DATE:20261029
DTEND;VALUE=DATE:20261030
DTSTAMP:20260424T163626
CREATED:20260326T070453Z
LAST-MODIFIED:20260326T070453Z
UID:10000793-1793232000-1793318399@www.raum24.at
SUMMARY:weightfriends jeden Donnerstag in Zirl
DESCRIPTION:https://www.weightfriends.at/ \n  \nBitte die genaue Workshop Zeit auf der Homepage von weightfriends nachsehen. \n  \n 
URL:https://www.raum24.at/veranstaltung/weightfriends-jeden-donnerstag-in-zirl/2026-10-29/
LOCATION:RAUM24\, Kirchstrasse 24\, Eingang Bahnhofstrasse\, Zirl\, Tirol\, 6170\, Österreich
ATTACH;FMTTYPE=image/png:https://www.raum24.at/raum24/wp-content/uploads/2022/12/Logo-Weight-friends.png
GEO:47.2717501;11.2418175
X-APPLE-STRUCTURED-LOCATION;VALUE=URI;X-ADDRESS=RAUM24 Kirchstrasse 24 Eingang Bahnhofstrasse Zirl Tirol 6170 Österreich;X-APPLE-RADIUS=500;X-TITLE=Kirchstrasse 24\, Eingang Bahnhofstrasse:geo:11.2418175,47.2717501
END:VEVENT
END:VCALENDAR