
	

BEGIN:VCALENDAR
VERSION:2.0
PRODID:-//RAUM24 - ECPv6.15.11//NONSGML v1.0//EN
CALSCALE:GREGORIAN
METHOD:PUBLISH
X-WR-CALNAME:RAUM24
X-ORIGINAL-URL:https://www.raum24.at
X-WR-CALDESC:Veranstaltungen für RAUM24
REFRESH-INTERVAL;VALUE=DURATION:PT1H
X-Robots-Tag:noindex
X-PUBLISHED-TTL:PT1H
BEGIN:VTIMEZONE
TZID:Europe/Vienna
BEGIN:DAYLIGHT
TZOFFSETFROM:+0100
TZOFFSETTO:+0200
TZNAME:CEST
DTSTART:20240331T010000
END:DAYLIGHT
BEGIN:STANDARD
TZOFFSETFROM:+0200
TZOFFSETTO:+0100
TZNAME:CET
DTSTART:20241027T010000
END:STANDARD
BEGIN:DAYLIGHT
TZOFFSETFROM:+0100
TZOFFSETTO:+0200
TZNAME:CEST
DTSTART:20250330T010000
END:DAYLIGHT
BEGIN:STANDARD
TZOFFSETFROM:+0200
TZOFFSETTO:+0100
TZNAME:CET
DTSTART:20251026T010000
END:STANDARD
BEGIN:DAYLIGHT
TZOFFSETFROM:+0100
TZOFFSETTO:+0200
TZNAME:CEST
DTSTART:20260329T010000
END:DAYLIGHT
BEGIN:STANDARD
TZOFFSETFROM:+0200
TZOFFSETTO:+0100
TZNAME:CET
DTSTART:20261025T010000
END:STANDARD
END:VTIMEZONE
BEGIN:VEVENT
DTSTART;TZID=Europe/Vienna:20251204T083000
DTEND;TZID=Europe/Vienna:20251204T103000
DTSTAMP:20260420T131458
CREATED:20250505T111310Z
LAST-MODIFIED:20250505T111602Z
UID:10000062-1764837000-1764844200@www.raum24.at
SUMMARY:Weight Friends jeden Donnerstag für dich in Zirl
DESCRIPTION:Zirl\nRaum 24\, Kirchstraße 24\nDO 09:30 (Abwaage ab 08:30)\nDO 18:30\nBarbara Gallop\n\n\n\n  \nhttps://www.weightfriends.at/kursstandorte/aktuelle-kurse \n 
URL:https://www.raum24.at/veranstaltung/weight-friends-jeden-donnerstag-fuer-dich-in-zirl/2025-12-04/
LOCATION:RAUM24\, Kirchstrasse 24\, Eingang Bahnhofstrasse\, Zirl\, Tirol\, 6170\, Österreich
ATTACH;FMTTYPE=image/png:https://www.raum24.at/raum24/wp-content/uploads/2022/12/Logo-Weight-friends.png
GEO:47.2717501;11.2418175
X-APPLE-STRUCTURED-LOCATION;VALUE=URI;X-ADDRESS=RAUM24 Kirchstrasse 24 Eingang Bahnhofstrasse Zirl Tirol 6170 Österreich;X-APPLE-RADIUS=500;X-TITLE=Kirchstrasse 24\, Eingang Bahnhofstrasse:geo:11.2418175,47.2717501
END:VEVENT
BEGIN:VEVENT
DTSTART;TZID=Europe/Vienna:20251204T183000
DTEND;TZID=Europe/Vienna:20251204T200000
DTSTAMP:20260420T131458
CREATED:20250505T113246Z
LAST-MODIFIED:20250505T113247Z
UID:10000085-1764873000-1764878400@www.raum24.at
SUMMARY:Weightfriends jeden Donnerstag Abend für dich in Zirl
DESCRIPTION:Zirl\nRaum 24\, Kirchstraße 24\nDO 09:30 (Abwaage ab 08:30)\nDO 18:30\nBarbara Gallop\n\n\n\n  \nhttps://www.weightfriends.at/kursstandorte/aktuelle-kurse \n 
URL:https://www.raum24.at/veranstaltung/weightfriends-jeden-donnerstag-abend-fuer-dich-in-zirl/2025-12-04/
LOCATION:RAUM24\, Kirchstrasse 24\, Eingang Bahnhofstrasse\, Zirl\, Tirol\, 6170\, Österreich
ATTACH;FMTTYPE=image/png:https://www.raum24.at/raum24/wp-content/uploads/2022/12/Logo-Weight-friends.png
GEO:47.2717501;11.2418175
X-APPLE-STRUCTURED-LOCATION;VALUE=URI;X-ADDRESS=RAUM24 Kirchstrasse 24 Eingang Bahnhofstrasse Zirl Tirol 6170 Österreich;X-APPLE-RADIUS=500;X-TITLE=Kirchstrasse 24\, Eingang Bahnhofstrasse:geo:11.2418175,47.2717501
END:VEVENT
BEGIN:VEVENT
DTSTART;TZID=Europe/Vienna:20251211T083000
DTEND;TZID=Europe/Vienna:20251211T103000
DTSTAMP:20260420T131458
CREATED:20250505T111310Z
LAST-MODIFIED:20250505T111602Z
UID:10000063-1765441800-1765449000@www.raum24.at
SUMMARY:Weight Friends jeden Donnerstag für dich in Zirl
DESCRIPTION:Zirl\nRaum 24\, Kirchstraße 24\nDO 09:30 (Abwaage ab 08:30)\nDO 18:30\nBarbara Gallop\n\n\n\n  \nhttps://www.weightfriends.at/kursstandorte/aktuelle-kurse \n 
URL:https://www.raum24.at/veranstaltung/weight-friends-jeden-donnerstag-fuer-dich-in-zirl/2025-12-11/
LOCATION:RAUM24\, Kirchstrasse 24\, Eingang Bahnhofstrasse\, Zirl\, Tirol\, 6170\, Österreich
ATTACH;FMTTYPE=image/png:https://www.raum24.at/raum24/wp-content/uploads/2022/12/Logo-Weight-friends.png
GEO:47.2717501;11.2418175
X-APPLE-STRUCTURED-LOCATION;VALUE=URI;X-ADDRESS=RAUM24 Kirchstrasse 24 Eingang Bahnhofstrasse Zirl Tirol 6170 Österreich;X-APPLE-RADIUS=500;X-TITLE=Kirchstrasse 24\, Eingang Bahnhofstrasse:geo:11.2418175,47.2717501
END:VEVENT
BEGIN:VEVENT
DTSTART;TZID=Europe/Vienna:20251211T183000
DTEND;TZID=Europe/Vienna:20251211T200000
DTSTAMP:20260420T131458
CREATED:20250505T113246Z
LAST-MODIFIED:20250505T113247Z
UID:10000086-1765477800-1765483200@www.raum24.at
SUMMARY:Weightfriends jeden Donnerstag Abend für dich in Zirl
DESCRIPTION:Zirl\nRaum 24\, Kirchstraße 24\nDO 09:30 (Abwaage ab 08:30)\nDO 18:30\nBarbara Gallop\n\n\n\n  \nhttps://www.weightfriends.at/kursstandorte/aktuelle-kurse \n 
URL:https://www.raum24.at/veranstaltung/weightfriends-jeden-donnerstag-abend-fuer-dich-in-zirl/2025-12-11/
LOCATION:RAUM24\, Kirchstrasse 24\, Eingang Bahnhofstrasse\, Zirl\, Tirol\, 6170\, Österreich
ATTACH;FMTTYPE=image/png:https://www.raum24.at/raum24/wp-content/uploads/2022/12/Logo-Weight-friends.png
GEO:47.2717501;11.2418175
X-APPLE-STRUCTURED-LOCATION;VALUE=URI;X-ADDRESS=RAUM24 Kirchstrasse 24 Eingang Bahnhofstrasse Zirl Tirol 6170 Österreich;X-APPLE-RADIUS=500;X-TITLE=Kirchstrasse 24\, Eingang Bahnhofstrasse:geo:11.2418175,47.2717501
END:VEVENT
BEGIN:VEVENT
DTSTART;TZID=Europe/Vienna:20251218T083000
DTEND;TZID=Europe/Vienna:20251218T103000
DTSTAMP:20260420T131458
CREATED:20250505T111310Z
LAST-MODIFIED:20250505T111602Z
UID:10000064-1766046600-1766053800@www.raum24.at
SUMMARY:Weight Friends jeden Donnerstag für dich in Zirl
DESCRIPTION:Zirl\nRaum 24\, Kirchstraße 24\nDO 09:30 (Abwaage ab 08:30)\nDO 18:30\nBarbara Gallop\n\n\n\n  \nhttps://www.weightfriends.at/kursstandorte/aktuelle-kurse \n 
URL:https://www.raum24.at/veranstaltung/weight-friends-jeden-donnerstag-fuer-dich-in-zirl/2025-12-18/
LOCATION:RAUM24\, Kirchstrasse 24\, Eingang Bahnhofstrasse\, Zirl\, Tirol\, 6170\, Österreich
ATTACH;FMTTYPE=image/png:https://www.raum24.at/raum24/wp-content/uploads/2022/12/Logo-Weight-friends.png
GEO:47.2717501;11.2418175
X-APPLE-STRUCTURED-LOCATION;VALUE=URI;X-ADDRESS=RAUM24 Kirchstrasse 24 Eingang Bahnhofstrasse Zirl Tirol 6170 Österreich;X-APPLE-RADIUS=500;X-TITLE=Kirchstrasse 24\, Eingang Bahnhofstrasse:geo:11.2418175,47.2717501
END:VEVENT
BEGIN:VEVENT
DTSTART;TZID=Europe/Vienna:20251218T183000
DTEND;TZID=Europe/Vienna:20251218T200000
DTSTAMP:20260420T131459
CREATED:20250505T113246Z
LAST-MODIFIED:20250505T113247Z
UID:10000087-1766082600-1766088000@www.raum24.at
SUMMARY:Weightfriends jeden Donnerstag Abend für dich in Zirl
DESCRIPTION:Zirl\nRaum 24\, Kirchstraße 24\nDO 09:30 (Abwaage ab 08:30)\nDO 18:30\nBarbara Gallop\n\n\n\n  \nhttps://www.weightfriends.at/kursstandorte/aktuelle-kurse \n 
URL:https://www.raum24.at/veranstaltung/weightfriends-jeden-donnerstag-abend-fuer-dich-in-zirl/2025-12-18/
LOCATION:RAUM24\, Kirchstrasse 24\, Eingang Bahnhofstrasse\, Zirl\, Tirol\, 6170\, Österreich
ATTACH;FMTTYPE=image/png:https://www.raum24.at/raum24/wp-content/uploads/2022/12/Logo-Weight-friends.png
GEO:47.2717501;11.2418175
X-APPLE-STRUCTURED-LOCATION;VALUE=URI;X-ADDRESS=RAUM24 Kirchstrasse 24 Eingang Bahnhofstrasse Zirl Tirol 6170 Österreich;X-APPLE-RADIUS=500;X-TITLE=Kirchstrasse 24\, Eingang Bahnhofstrasse:geo:11.2418175,47.2717501
END:VEVENT
END:VCALENDAR