
	

BEGIN:VCALENDAR
VERSION:2.0
PRODID:-//RAUM24 - ECPv6.15.11//NONSGML v1.0//EN
CALSCALE:GREGORIAN
METHOD:PUBLISH
X-ORIGINAL-URL:https://www.raum24.at
X-WR-CALDESC:Veranstaltungen für RAUM24
REFRESH-INTERVAL;VALUE=DURATION:PT1H
X-Robots-Tag:noindex
X-PUBLISHED-TTL:PT1H
BEGIN:VTIMEZONE
TZID:Europe/Vienna
BEGIN:DAYLIGHT
TZOFFSETFROM:+0100
TZOFFSETTO:+0200
TZNAME:CEST
DTSTART:20240331T010000
END:DAYLIGHT
BEGIN:STANDARD
TZOFFSETFROM:+0200
TZOFFSETTO:+0100
TZNAME:CET
DTSTART:20241027T010000
END:STANDARD
BEGIN:DAYLIGHT
TZOFFSETFROM:+0100
TZOFFSETTO:+0200
TZNAME:CEST
DTSTART:20250330T010000
END:DAYLIGHT
BEGIN:STANDARD
TZOFFSETFROM:+0200
TZOFFSETTO:+0100
TZNAME:CET
DTSTART:20251026T010000
END:STANDARD
BEGIN:DAYLIGHT
TZOFFSETFROM:+0100
TZOFFSETTO:+0200
TZNAME:CEST
DTSTART:20260329T010000
END:DAYLIGHT
BEGIN:STANDARD
TZOFFSETFROM:+0200
TZOFFSETTO:+0100
TZNAME:CET
DTSTART:20261025T010000
END:STANDARD
END:VTIMEZONE
BEGIN:VEVENT
DTSTART;TZID=Europe/Vienna:20251002T083000
DTEND;TZID=Europe/Vienna:20251002T103000
DTSTAMP:20260424T174524
CREATED:20250505T111310Z
LAST-MODIFIED:20250505T111602Z
UID:10000053-1759393800-1759401000@www.raum24.at
SUMMARY:Weight Friends jeden Donnerstag für dich in Zirl
DESCRIPTION:Zirl\nRaum 24\, Kirchstraße 24\nDO 09:30 (Abwaage ab 08:30)\nDO 18:30\nBarbara Gallop\n\n\n\n  \nhttps://www.weightfriends.at/kursstandorte/aktuelle-kurse \n 
URL:https://www.raum24.at/veranstaltung/weight-friends-jeden-donnerstag-fuer-dich-in-zirl/2025-10-02/
LOCATION:RAUM24\, Kirchstrasse 24\, Eingang Bahnhofstrasse\, Zirl\, Tirol\, 6170\, Österreich
ATTACH;FMTTYPE=image/png:https://www.raum24.at/raum24/wp-content/uploads/2022/12/Logo-Weight-friends.png
GEO:47.2717501;11.2418175
X-APPLE-STRUCTURED-LOCATION;VALUE=URI;X-ADDRESS=RAUM24 Kirchstrasse 24 Eingang Bahnhofstrasse Zirl Tirol 6170 Österreich;X-APPLE-RADIUS=500;X-TITLE=Kirchstrasse 24\, Eingang Bahnhofstrasse:geo:11.2418175,47.2717501
END:VEVENT
BEGIN:VEVENT
DTSTART;TZID=Europe/Vienna:20251002T183000
DTEND;TZID=Europe/Vienna:20251002T200000
DTSTAMP:20260424T174524
CREATED:20250505T113246Z
LAST-MODIFIED:20250505T113247Z
UID:10000076-1759429800-1759435200@www.raum24.at
SUMMARY:Weightfriends jeden Donnerstag Abend für dich in Zirl
DESCRIPTION:Zirl\nRaum 24\, Kirchstraße 24\nDO 09:30 (Abwaage ab 08:30)\nDO 18:30\nBarbara Gallop\n\n\n\n  \nhttps://www.weightfriends.at/kursstandorte/aktuelle-kurse \n 
URL:https://www.raum24.at/veranstaltung/weightfriends-jeden-donnerstag-abend-fuer-dich-in-zirl/2025-10-02/
LOCATION:RAUM24\, Kirchstrasse 24\, Eingang Bahnhofstrasse\, Zirl\, Tirol\, 6170\, Österreich
ATTACH;FMTTYPE=image/png:https://www.raum24.at/raum24/wp-content/uploads/2022/12/Logo-Weight-friends.png
GEO:47.2717501;11.2418175
X-APPLE-STRUCTURED-LOCATION;VALUE=URI;X-ADDRESS=RAUM24 Kirchstrasse 24 Eingang Bahnhofstrasse Zirl Tirol 6170 Österreich;X-APPLE-RADIUS=500;X-TITLE=Kirchstrasse 24\, Eingang Bahnhofstrasse:geo:11.2418175,47.2717501
END:VEVENT
BEGIN:VEVENT
DTSTART;TZID=Europe/Vienna:20251009T083000
DTEND;TZID=Europe/Vienna:20251009T103000
DTSTAMP:20260424T174524
CREATED:20250505T111310Z
LAST-MODIFIED:20250505T111602Z
UID:10000054-1759998600-1760005800@www.raum24.at
SUMMARY:Weight Friends jeden Donnerstag für dich in Zirl
DESCRIPTION:Zirl\nRaum 24\, Kirchstraße 24\nDO 09:30 (Abwaage ab 08:30)\nDO 18:30\nBarbara Gallop\n\n\n\n  \nhttps://www.weightfriends.at/kursstandorte/aktuelle-kurse \n 
URL:https://www.raum24.at/veranstaltung/weight-friends-jeden-donnerstag-fuer-dich-in-zirl/2025-10-09/
LOCATION:RAUM24\, Kirchstrasse 24\, Eingang Bahnhofstrasse\, Zirl\, Tirol\, 6170\, Österreich
ATTACH;FMTTYPE=image/png:https://www.raum24.at/raum24/wp-content/uploads/2022/12/Logo-Weight-friends.png
GEO:47.2717501;11.2418175
X-APPLE-STRUCTURED-LOCATION;VALUE=URI;X-ADDRESS=RAUM24 Kirchstrasse 24 Eingang Bahnhofstrasse Zirl Tirol 6170 Österreich;X-APPLE-RADIUS=500;X-TITLE=Kirchstrasse 24\, Eingang Bahnhofstrasse:geo:11.2418175,47.2717501
END:VEVENT
BEGIN:VEVENT
DTSTART;TZID=Europe/Vienna:20251009T183000
DTEND;TZID=Europe/Vienna:20251009T200000
DTSTAMP:20260424T174524
CREATED:20250505T113246Z
LAST-MODIFIED:20250505T113247Z
UID:10000077-1760034600-1760040000@www.raum24.at
SUMMARY:Weightfriends jeden Donnerstag Abend für dich in Zirl
DESCRIPTION:Zirl\nRaum 24\, Kirchstraße 24\nDO 09:30 (Abwaage ab 08:30)\nDO 18:30\nBarbara Gallop\n\n\n\n  \nhttps://www.weightfriends.at/kursstandorte/aktuelle-kurse \n 
URL:https://www.raum24.at/veranstaltung/weightfriends-jeden-donnerstag-abend-fuer-dich-in-zirl/2025-10-09/
LOCATION:RAUM24\, Kirchstrasse 24\, Eingang Bahnhofstrasse\, Zirl\, Tirol\, 6170\, Österreich
ATTACH;FMTTYPE=image/png:https://www.raum24.at/raum24/wp-content/uploads/2022/12/Logo-Weight-friends.png
GEO:47.2717501;11.2418175
X-APPLE-STRUCTURED-LOCATION;VALUE=URI;X-ADDRESS=RAUM24 Kirchstrasse 24 Eingang Bahnhofstrasse Zirl Tirol 6170 Österreich;X-APPLE-RADIUS=500;X-TITLE=Kirchstrasse 24\, Eingang Bahnhofstrasse:geo:11.2418175,47.2717501
END:VEVENT
BEGIN:VEVENT
DTSTART;TZID=Europe/Vienna:20251016T083000
DTEND;TZID=Europe/Vienna:20251016T103000
DTSTAMP:20260424T174524
CREATED:20250505T111310Z
LAST-MODIFIED:20250505T111602Z
UID:10000055-1760603400-1760610600@www.raum24.at
SUMMARY:Weight Friends jeden Donnerstag für dich in Zirl
DESCRIPTION:Zirl\nRaum 24\, Kirchstraße 24\nDO 09:30 (Abwaage ab 08:30)\nDO 18:30\nBarbara Gallop\n\n\n\n  \nhttps://www.weightfriends.at/kursstandorte/aktuelle-kurse \n 
URL:https://www.raum24.at/veranstaltung/weight-friends-jeden-donnerstag-fuer-dich-in-zirl/2025-10-16/
LOCATION:RAUM24\, Kirchstrasse 24\, Eingang Bahnhofstrasse\, Zirl\, Tirol\, 6170\, Österreich
ATTACH;FMTTYPE=image/png:https://www.raum24.at/raum24/wp-content/uploads/2022/12/Logo-Weight-friends.png
GEO:47.2717501;11.2418175
X-APPLE-STRUCTURED-LOCATION;VALUE=URI;X-ADDRESS=RAUM24 Kirchstrasse 24 Eingang Bahnhofstrasse Zirl Tirol 6170 Österreich;X-APPLE-RADIUS=500;X-TITLE=Kirchstrasse 24\, Eingang Bahnhofstrasse:geo:11.2418175,47.2717501
END:VEVENT
BEGIN:VEVENT
DTSTART;TZID=Europe/Vienna:20251016T183000
DTEND;TZID=Europe/Vienna:20251016T200000
DTSTAMP:20260424T174524
CREATED:20250505T113246Z
LAST-MODIFIED:20250505T113247Z
UID:10000078-1760639400-1760644800@www.raum24.at
SUMMARY:Weightfriends jeden Donnerstag Abend für dich in Zirl
DESCRIPTION:Zirl\nRaum 24\, Kirchstraße 24\nDO 09:30 (Abwaage ab 08:30)\nDO 18:30\nBarbara Gallop\n\n\n\n  \nhttps://www.weightfriends.at/kursstandorte/aktuelle-kurse \n 
URL:https://www.raum24.at/veranstaltung/weightfriends-jeden-donnerstag-abend-fuer-dich-in-zirl/2025-10-16/
LOCATION:RAUM24\, Kirchstrasse 24\, Eingang Bahnhofstrasse\, Zirl\, Tirol\, 6170\, Österreich
ATTACH;FMTTYPE=image/png:https://www.raum24.at/raum24/wp-content/uploads/2022/12/Logo-Weight-friends.png
GEO:47.2717501;11.2418175
X-APPLE-STRUCTURED-LOCATION;VALUE=URI;X-ADDRESS=RAUM24 Kirchstrasse 24 Eingang Bahnhofstrasse Zirl Tirol 6170 Österreich;X-APPLE-RADIUS=500;X-TITLE=Kirchstrasse 24\, Eingang Bahnhofstrasse:geo:11.2418175,47.2717501
END:VEVENT
BEGIN:VEVENT
DTSTART;TZID=Europe/Vienna:20251023T083000
DTEND;TZID=Europe/Vienna:20251023T103000
DTSTAMP:20260424T174524
CREATED:20250505T111310Z
LAST-MODIFIED:20250505T111602Z
UID:10000056-1761208200-1761215400@www.raum24.at
SUMMARY:Weight Friends jeden Donnerstag für dich in Zirl
DESCRIPTION:Zirl\nRaum 24\, Kirchstraße 24\nDO 09:30 (Abwaage ab 08:30)\nDO 18:30\nBarbara Gallop\n\n\n\n  \nhttps://www.weightfriends.at/kursstandorte/aktuelle-kurse \n 
URL:https://www.raum24.at/veranstaltung/weight-friends-jeden-donnerstag-fuer-dich-in-zirl/2025-10-23/
LOCATION:RAUM24\, Kirchstrasse 24\, Eingang Bahnhofstrasse\, Zirl\, Tirol\, 6170\, Österreich
ATTACH;FMTTYPE=image/png:https://www.raum24.at/raum24/wp-content/uploads/2022/12/Logo-Weight-friends.png
GEO:47.2717501;11.2418175
X-APPLE-STRUCTURED-LOCATION;VALUE=URI;X-ADDRESS=RAUM24 Kirchstrasse 24 Eingang Bahnhofstrasse Zirl Tirol 6170 Österreich;X-APPLE-RADIUS=500;X-TITLE=Kirchstrasse 24\, Eingang Bahnhofstrasse:geo:11.2418175,47.2717501
END:VEVENT
BEGIN:VEVENT
DTSTART;TZID=Europe/Vienna:20251023T183000
DTEND;TZID=Europe/Vienna:20251023T200000
DTSTAMP:20260424T174524
CREATED:20250505T113246Z
LAST-MODIFIED:20250505T113247Z
UID:10000079-1761244200-1761249600@www.raum24.at
SUMMARY:Weightfriends jeden Donnerstag Abend für dich in Zirl
DESCRIPTION:Zirl\nRaum 24\, Kirchstraße 24\nDO 09:30 (Abwaage ab 08:30)\nDO 18:30\nBarbara Gallop\n\n\n\n  \nhttps://www.weightfriends.at/kursstandorte/aktuelle-kurse \n 
URL:https://www.raum24.at/veranstaltung/weightfriends-jeden-donnerstag-abend-fuer-dich-in-zirl/2025-10-23/
LOCATION:RAUM24\, Kirchstrasse 24\, Eingang Bahnhofstrasse\, Zirl\, Tirol\, 6170\, Österreich
ATTACH;FMTTYPE=image/png:https://www.raum24.at/raum24/wp-content/uploads/2022/12/Logo-Weight-friends.png
GEO:47.2717501;11.2418175
X-APPLE-STRUCTURED-LOCATION;VALUE=URI;X-ADDRESS=RAUM24 Kirchstrasse 24 Eingang Bahnhofstrasse Zirl Tirol 6170 Österreich;X-APPLE-RADIUS=500;X-TITLE=Kirchstrasse 24\, Eingang Bahnhofstrasse:geo:11.2418175,47.2717501
END:VEVENT
BEGIN:VEVENT
DTSTART;TZID=Europe/Vienna:20251030T083000
DTEND;TZID=Europe/Vienna:20251030T103000
DTSTAMP:20260424T174524
CREATED:20250505T111310Z
LAST-MODIFIED:20250505T111602Z
UID:10000057-1761813000-1761820200@www.raum24.at
SUMMARY:Weight Friends jeden Donnerstag für dich in Zirl
DESCRIPTION:Zirl\nRaum 24\, Kirchstraße 24\nDO 09:30 (Abwaage ab 08:30)\nDO 18:30\nBarbara Gallop\n\n\n\n  \nhttps://www.weightfriends.at/kursstandorte/aktuelle-kurse \n 
URL:https://www.raum24.at/veranstaltung/weight-friends-jeden-donnerstag-fuer-dich-in-zirl/2025-10-30/
LOCATION:RAUM24\, Kirchstrasse 24\, Eingang Bahnhofstrasse\, Zirl\, Tirol\, 6170\, Österreich
ATTACH;FMTTYPE=image/png:https://www.raum24.at/raum24/wp-content/uploads/2022/12/Logo-Weight-friends.png
GEO:47.2717501;11.2418175
X-APPLE-STRUCTURED-LOCATION;VALUE=URI;X-ADDRESS=RAUM24 Kirchstrasse 24 Eingang Bahnhofstrasse Zirl Tirol 6170 Österreich;X-APPLE-RADIUS=500;X-TITLE=Kirchstrasse 24\, Eingang Bahnhofstrasse:geo:11.2418175,47.2717501
END:VEVENT
BEGIN:VEVENT
DTSTART;TZID=Europe/Vienna:20251030T183000
DTEND;TZID=Europe/Vienna:20251030T200000
DTSTAMP:20260424T174524
CREATED:20250505T113246Z
LAST-MODIFIED:20250505T113247Z
UID:10000080-1761849000-1761854400@www.raum24.at
SUMMARY:Weightfriends jeden Donnerstag Abend für dich in Zirl
DESCRIPTION:Zirl\nRaum 24\, Kirchstraße 24\nDO 09:30 (Abwaage ab 08:30)\nDO 18:30\nBarbara Gallop\n\n\n\n  \nhttps://www.weightfriends.at/kursstandorte/aktuelle-kurse \n 
URL:https://www.raum24.at/veranstaltung/weightfriends-jeden-donnerstag-abend-fuer-dich-in-zirl/2025-10-30/
LOCATION:RAUM24\, Kirchstrasse 24\, Eingang Bahnhofstrasse\, Zirl\, Tirol\, 6170\, Österreich
ATTACH;FMTTYPE=image/png:https://www.raum24.at/raum24/wp-content/uploads/2022/12/Logo-Weight-friends.png
GEO:47.2717501;11.2418175
X-APPLE-STRUCTURED-LOCATION;VALUE=URI;X-ADDRESS=RAUM24 Kirchstrasse 24 Eingang Bahnhofstrasse Zirl Tirol 6170 Österreich;X-APPLE-RADIUS=500;X-TITLE=Kirchstrasse 24\, Eingang Bahnhofstrasse:geo:11.2418175,47.2717501
END:VEVENT
END:VCALENDAR