
	

BEGIN:VCALENDAR
VERSION:2.0
PRODID:-//RAUM24 - ECPv6.15.11//NONSGML v1.0//EN
CALSCALE:GREGORIAN
METHOD:PUBLISH
X-ORIGINAL-URL:https://www.raum24.at
X-WR-CALDESC:Veranstaltungen für RAUM24
REFRESH-INTERVAL;VALUE=DURATION:PT1H
X-Robots-Tag:noindex
X-PUBLISHED-TTL:PT1H
BEGIN:VTIMEZONE
TZID:Europe/Vienna
BEGIN:DAYLIGHT
TZOFFSETFROM:+0100
TZOFFSETTO:+0200
TZNAME:CEST
DTSTART:20250330T010000
END:DAYLIGHT
BEGIN:STANDARD
TZOFFSETFROM:+0200
TZOFFSETTO:+0100
TZNAME:CET
DTSTART:20251026T010000
END:STANDARD
BEGIN:DAYLIGHT
TZOFFSETFROM:+0100
TZOFFSETTO:+0200
TZNAME:CEST
DTSTART:20260329T010000
END:DAYLIGHT
BEGIN:STANDARD
TZOFFSETFROM:+0200
TZOFFSETTO:+0100
TZNAME:CET
DTSTART:20261025T010000
END:STANDARD
BEGIN:DAYLIGHT
TZOFFSETFROM:+0100
TZOFFSETTO:+0200
TZNAME:CEST
DTSTART:20270328T010000
END:DAYLIGHT
BEGIN:STANDARD
TZOFFSETFROM:+0200
TZOFFSETTO:+0100
TZNAME:CET
DTSTART:20271031T010000
END:STANDARD
END:VTIMEZONE
BEGIN:VEVENT
DTSTART;TZID=Europe/Vienna:20260107T084500
DTEND;TZID=Europe/Vienna:20260107T094500
DTSTAMP:20260420T212342
CREATED:20251204T102328Z
LAST-MODIFIED:20251204T103535Z
UID:10000629-1767775500-1767779100@www.raum24.at
SUMMARY:Rückentraining mit Tanja Plankensteiner
DESCRIPTION:https://www.tuit4ju.at/ \nDu möchtest eventuell einmal zum Schnuppern kommen? Lasse es uns wissen! \nKontaktinformationen für Tanja Plankensteiner in Zirl finden Sie über ihre Webseite Tuit4Ju oder über RAUM24\nKontaktmöglichkeiten\n\nE-Mail: tanja@tuit4ju.at\nTelefon (RAUM24): 0664 / 121 57 09 \n\nKursort\n\nAdresse: RAUM24\, Kirchstraße 24\, 6170 Zirl 
URL:https://www.raum24.at/veranstaltung/rueckentraining-mit-tanja-plankensteiner/2026-01-07/
LOCATION:RAUM24\, Kirchstrasse 24\, Zirl\, Tirol\, 6170\, Österreich
ATTACH;FMTTYPE=image/jpeg:https://www.raum24.at/raum24/wp-content/uploads/2025/07/Tanja-Plankensteiner-im-RAUM24-rotated.jpg
GEO:47.2717603;11.2418224
X-APPLE-STRUCTURED-LOCATION;VALUE=URI;X-ADDRESS=RAUM24 Kirchstrasse 24 Zirl Tirol 6170 Österreich;X-APPLE-RADIUS=500;X-TITLE=Kirchstrasse 24:geo:11.2418224,47.2717603
END:VEVENT
BEGIN:VEVENT
DTSTART;TZID=Europe/Vienna:20260112T084500
DTEND;TZID=Europe/Vienna:20260112T094500
DTSTAMP:20260420T212342
CREATED:20251204T102328Z
LAST-MODIFIED:20251204T103535Z
UID:10000630-1768207500-1768211100@www.raum24.at
SUMMARY:Rückentraining mit Tanja Plankensteiner
DESCRIPTION:https://www.tuit4ju.at/ \nDu möchtest eventuell einmal zum Schnuppern kommen? Lasse es uns wissen! \nKontaktinformationen für Tanja Plankensteiner in Zirl finden Sie über ihre Webseite Tuit4Ju oder über RAUM24\nKontaktmöglichkeiten\n\nE-Mail: tanja@tuit4ju.at\nTelefon (RAUM24): 0664 / 121 57 09 \n\nKursort\n\nAdresse: RAUM24\, Kirchstraße 24\, 6170 Zirl 
URL:https://www.raum24.at/veranstaltung/rueckentraining-mit-tanja-plankensteiner/2026-01-12/
LOCATION:RAUM24\, Kirchstrasse 24\, Zirl\, Tirol\, 6170\, Österreich
ATTACH;FMTTYPE=image/jpeg:https://www.raum24.at/raum24/wp-content/uploads/2025/07/Tanja-Plankensteiner-im-RAUM24-rotated.jpg
GEO:47.2717603;11.2418224
X-APPLE-STRUCTURED-LOCATION;VALUE=URI;X-ADDRESS=RAUM24 Kirchstrasse 24 Zirl Tirol 6170 Österreich;X-APPLE-RADIUS=500;X-TITLE=Kirchstrasse 24:geo:11.2418224,47.2717603
END:VEVENT
BEGIN:VEVENT
DTSTART;TZID=Europe/Vienna:20260119T084500
DTEND;TZID=Europe/Vienna:20260119T094500
DTSTAMP:20260420T212342
CREATED:20251204T102328Z
LAST-MODIFIED:20251204T103535Z
UID:10000631-1768812300-1768815900@www.raum24.at
SUMMARY:Rückentraining mit Tanja Plankensteiner
DESCRIPTION:https://www.tuit4ju.at/ \nDu möchtest eventuell einmal zum Schnuppern kommen? Lasse es uns wissen! \nKontaktinformationen für Tanja Plankensteiner in Zirl finden Sie über ihre Webseite Tuit4Ju oder über RAUM24\nKontaktmöglichkeiten\n\nE-Mail: tanja@tuit4ju.at\nTelefon (RAUM24): 0664 / 121 57 09 \n\nKursort\n\nAdresse: RAUM24\, Kirchstraße 24\, 6170 Zirl 
URL:https://www.raum24.at/veranstaltung/rueckentraining-mit-tanja-plankensteiner/2026-01-19/
LOCATION:RAUM24\, Kirchstrasse 24\, Zirl\, Tirol\, 6170\, Österreich
ATTACH;FMTTYPE=image/jpeg:https://www.raum24.at/raum24/wp-content/uploads/2025/07/Tanja-Plankensteiner-im-RAUM24-rotated.jpg
GEO:47.2717603;11.2418224
X-APPLE-STRUCTURED-LOCATION;VALUE=URI;X-ADDRESS=RAUM24 Kirchstrasse 24 Zirl Tirol 6170 Österreich;X-APPLE-RADIUS=500;X-TITLE=Kirchstrasse 24:geo:11.2418224,47.2717603
END:VEVENT
BEGIN:VEVENT
DTSTART;TZID=Europe/Vienna:20260126T084500
DTEND;TZID=Europe/Vienna:20260126T094500
DTSTAMP:20260420T212342
CREATED:20251204T102328Z
LAST-MODIFIED:20251204T103535Z
UID:10000632-1769417100-1769420700@www.raum24.at
SUMMARY:Rückentraining mit Tanja Plankensteiner
DESCRIPTION:https://www.tuit4ju.at/ \nDu möchtest eventuell einmal zum Schnuppern kommen? Lasse es uns wissen! \nKontaktinformationen für Tanja Plankensteiner in Zirl finden Sie über ihre Webseite Tuit4Ju oder über RAUM24\nKontaktmöglichkeiten\n\nE-Mail: tanja@tuit4ju.at\nTelefon (RAUM24): 0664 / 121 57 09 \n\nKursort\n\nAdresse: RAUM24\, Kirchstraße 24\, 6170 Zirl 
URL:https://www.raum24.at/veranstaltung/rueckentraining-mit-tanja-plankensteiner/2026-01-26/
LOCATION:RAUM24\, Kirchstrasse 24\, Zirl\, Tirol\, 6170\, Österreich
ATTACH;FMTTYPE=image/jpeg:https://www.raum24.at/raum24/wp-content/uploads/2025/07/Tanja-Plankensteiner-im-RAUM24-rotated.jpg
GEO:47.2717603;11.2418224
X-APPLE-STRUCTURED-LOCATION;VALUE=URI;X-ADDRESS=RAUM24 Kirchstrasse 24 Zirl Tirol 6170 Österreich;X-APPLE-RADIUS=500;X-TITLE=Kirchstrasse 24:geo:11.2418224,47.2717603
END:VEVENT
END:VCALENDAR