
	

BEGIN:VCALENDAR
VERSION:2.0
PRODID:-//RAUM24 - ECPv6.15.11//NONSGML v1.0//EN
CALSCALE:GREGORIAN
METHOD:PUBLISH
X-ORIGINAL-URL:https://www.raum24.at
X-WR-CALDESC:Veranstaltungen für RAUM24
REFRESH-INTERVAL;VALUE=DURATION:PT1H
X-Robots-Tag:noindex
X-PUBLISHED-TTL:PT1H
BEGIN:VTIMEZONE
TZID:Europe/Vienna
BEGIN:DAYLIGHT
TZOFFSETFROM:+0100
TZOFFSETTO:+0200
TZNAME:CEST
DTSTART:20250330T010000
END:DAYLIGHT
BEGIN:STANDARD
TZOFFSETFROM:+0200
TZOFFSETTO:+0100
TZNAME:CET
DTSTART:20251026T010000
END:STANDARD
BEGIN:DAYLIGHT
TZOFFSETFROM:+0100
TZOFFSETTO:+0200
TZNAME:CEST
DTSTART:20260329T010000
END:DAYLIGHT
BEGIN:STANDARD
TZOFFSETFROM:+0200
TZOFFSETTO:+0100
TZNAME:CET
DTSTART:20261025T010000
END:STANDARD
BEGIN:DAYLIGHT
TZOFFSETFROM:+0100
TZOFFSETTO:+0200
TZNAME:CEST
DTSTART:20270328T010000
END:DAYLIGHT
BEGIN:STANDARD
TZOFFSETFROM:+0200
TZOFFSETTO:+0100
TZNAME:CET
DTSTART:20271031T010000
END:STANDARD
END:VTIMEZONE
BEGIN:VEVENT
DTSTART;TZID=Europe/Vienna:20260112T191500
DTEND;TZID=Europe/Vienna:20260112T201500
DTSTAMP:20260420T112638
CREATED:20251117T171502Z
LAST-MODIFIED:20251117T171503Z
UID:10000460-1768245300-1768248900@www.raum24.at
SUMMARY:Powertraining und Relax mit Tanja Sorrentino
DESCRIPTION:
URL:https://www.raum24.at/veranstaltung/powertraining-und-relax-mit-tanja-sorrentino/2026-01-12/
LOCATION:RAUM24\, Kirchstrasse 24\, Eingang Bahnhofstrasse\, Zirl\, Tirol\, 6170\, Österreich
ATTACH;FMTTYPE=image/jpeg:https://www.raum24.at/raum24/wp-content/uploads/2025/04/Yoga-im-RAUM24-rotated.jpg
GEO:47.2717501;11.2418175
X-APPLE-STRUCTURED-LOCATION;VALUE=URI;X-ADDRESS=RAUM24 Kirchstrasse 24 Eingang Bahnhofstrasse Zirl Tirol 6170 Österreich;X-APPLE-RADIUS=500;X-TITLE=Kirchstrasse 24\, Eingang Bahnhofstrasse:geo:11.2418175,47.2717501
END:VEVENT
BEGIN:VEVENT
DTSTART;TZID=Europe/Vienna:20260119T191500
DTEND;TZID=Europe/Vienna:20260119T201500
DTSTAMP:20260420T112638
CREATED:20251117T171502Z
LAST-MODIFIED:20251117T171503Z
UID:10000461-1768850100-1768853700@www.raum24.at
SUMMARY:Powertraining und Relax mit Tanja Sorrentino
DESCRIPTION:
URL:https://www.raum24.at/veranstaltung/powertraining-und-relax-mit-tanja-sorrentino/2026-01-19/
LOCATION:RAUM24\, Kirchstrasse 24\, Eingang Bahnhofstrasse\, Zirl\, Tirol\, 6170\, Österreich
ATTACH;FMTTYPE=image/jpeg:https://www.raum24.at/raum24/wp-content/uploads/2025/04/Yoga-im-RAUM24-rotated.jpg
GEO:47.2717501;11.2418175
X-APPLE-STRUCTURED-LOCATION;VALUE=URI;X-ADDRESS=RAUM24 Kirchstrasse 24 Eingang Bahnhofstrasse Zirl Tirol 6170 Österreich;X-APPLE-RADIUS=500;X-TITLE=Kirchstrasse 24\, Eingang Bahnhofstrasse:geo:11.2418175,47.2717501
END:VEVENT
BEGIN:VEVENT
DTSTART;TZID=Europe/Vienna:20260126T191500
DTEND;TZID=Europe/Vienna:20260126T201500
DTSTAMP:20260420T112638
CREATED:20251117T171502Z
LAST-MODIFIED:20251117T171503Z
UID:10000462-1769454900-1769458500@www.raum24.at
SUMMARY:Powertraining und Relax mit Tanja Sorrentino
DESCRIPTION:
URL:https://www.raum24.at/veranstaltung/powertraining-und-relax-mit-tanja-sorrentino/2026-01-26/
LOCATION:RAUM24\, Kirchstrasse 24\, Eingang Bahnhofstrasse\, Zirl\, Tirol\, 6170\, Österreich
ATTACH;FMTTYPE=image/jpeg:https://www.raum24.at/raum24/wp-content/uploads/2025/04/Yoga-im-RAUM24-rotated.jpg
GEO:47.2717501;11.2418175
X-APPLE-STRUCTURED-LOCATION;VALUE=URI;X-ADDRESS=RAUM24 Kirchstrasse 24 Eingang Bahnhofstrasse Zirl Tirol 6170 Österreich;X-APPLE-RADIUS=500;X-TITLE=Kirchstrasse 24\, Eingang Bahnhofstrasse:geo:11.2418175,47.2717501
END:VEVENT
END:VCALENDAR