
	

BEGIN:VCALENDAR
VERSION:2.0
PRODID:-//RAUM24 - ECPv6.15.11//NONSGML v1.0//EN
CALSCALE:GREGORIAN
METHOD:PUBLISH
X-ORIGINAL-URL:https://www.raum24.at
X-WR-CALDESC:Veranstaltungen für RAUM24
REFRESH-INTERVAL;VALUE=DURATION:PT1H
X-Robots-Tag:noindex
X-PUBLISHED-TTL:PT1H
BEGIN:VTIMEZONE
TZID:Europe/Vienna
BEGIN:DAYLIGHT
TZOFFSETFROM:+0100
TZOFFSETTO:+0200
TZNAME:CEST
DTSTART:20240331T010000
END:DAYLIGHT
BEGIN:STANDARD
TZOFFSETFROM:+0200
TZOFFSETTO:+0100
TZNAME:CET
DTSTART:20241027T010000
END:STANDARD
BEGIN:DAYLIGHT
TZOFFSETFROM:+0100
TZOFFSETTO:+0200
TZNAME:CEST
DTSTART:20250330T010000
END:DAYLIGHT
BEGIN:STANDARD
TZOFFSETFROM:+0200
TZOFFSETTO:+0100
TZNAME:CET
DTSTART:20251026T010000
END:STANDARD
BEGIN:DAYLIGHT
TZOFFSETFROM:+0100
TZOFFSETTO:+0200
TZNAME:CEST
DTSTART:20260329T010000
END:DAYLIGHT
BEGIN:STANDARD
TZOFFSETFROM:+0200
TZOFFSETTO:+0100
TZNAME:CET
DTSTART:20261025T010000
END:STANDARD
END:VTIMEZONE
BEGIN:VEVENT
DTSTART;TZID=Europe/Vienna:20251001T183000
DTEND;TZID=Europe/Vienna:20251001T193000
DTSTAMP:20260420T162206
CREATED:20250624T120922Z
LAST-MODIFIED:20250624T120922Z
UID:10000110-1759343400-1759347000@www.raum24.at
SUMMARY:Yoga Mädels
DESCRIPTION:
URL:https://www.raum24.at/veranstaltung/yoga-maedels/2025-10-01/
LOCATION:RAUM24\, Kirchstrasse 24\, Eingang Bahnhofstrasse\, Zirl\, Tirol\, 6170\, Österreich
ATTACH;FMTTYPE=image/jpeg:https://www.raum24.at/raum24/wp-content/uploads/2025/05/Veronika-Hochenegger.jpg
GEO:47.2717501;11.2418175
X-APPLE-STRUCTURED-LOCATION;VALUE=URI;X-ADDRESS=RAUM24 Kirchstrasse 24 Eingang Bahnhofstrasse Zirl Tirol 6170 Österreich;X-APPLE-RADIUS=500;X-TITLE=Kirchstrasse 24\, Eingang Bahnhofstrasse:geo:11.2418175,47.2717501
END:VEVENT
BEGIN:VEVENT
DTSTART;TZID=Europe/Vienna:20251008T183000
DTEND;TZID=Europe/Vienna:20251008T193000
DTSTAMP:20260420T162206
CREATED:20250624T120922Z
LAST-MODIFIED:20250624T120922Z
UID:10000111-1759948200-1759951800@www.raum24.at
SUMMARY:Yoga Mädels
DESCRIPTION:
URL:https://www.raum24.at/veranstaltung/yoga-maedels/2025-10-08/
LOCATION:RAUM24\, Kirchstrasse 24\, Eingang Bahnhofstrasse\, Zirl\, Tirol\, 6170\, Österreich
ATTACH;FMTTYPE=image/jpeg:https://www.raum24.at/raum24/wp-content/uploads/2025/05/Veronika-Hochenegger.jpg
GEO:47.2717501;11.2418175
X-APPLE-STRUCTURED-LOCATION;VALUE=URI;X-ADDRESS=RAUM24 Kirchstrasse 24 Eingang Bahnhofstrasse Zirl Tirol 6170 Österreich;X-APPLE-RADIUS=500;X-TITLE=Kirchstrasse 24\, Eingang Bahnhofstrasse:geo:11.2418175,47.2717501
END:VEVENT
BEGIN:VEVENT
DTSTART;TZID=Europe/Vienna:20251015T183000
DTEND;TZID=Europe/Vienna:20251015T193000
DTSTAMP:20260420T162206
CREATED:20250624T120922Z
LAST-MODIFIED:20250624T120922Z
UID:10000112-1760553000-1760556600@www.raum24.at
SUMMARY:Yoga Mädels
DESCRIPTION:
URL:https://www.raum24.at/veranstaltung/yoga-maedels/2025-10-15/
LOCATION:RAUM24\, Kirchstrasse 24\, Eingang Bahnhofstrasse\, Zirl\, Tirol\, 6170\, Österreich
ATTACH;FMTTYPE=image/jpeg:https://www.raum24.at/raum24/wp-content/uploads/2025/05/Veronika-Hochenegger.jpg
GEO:47.2717501;11.2418175
X-APPLE-STRUCTURED-LOCATION;VALUE=URI;X-ADDRESS=RAUM24 Kirchstrasse 24 Eingang Bahnhofstrasse Zirl Tirol 6170 Österreich;X-APPLE-RADIUS=500;X-TITLE=Kirchstrasse 24\, Eingang Bahnhofstrasse:geo:11.2418175,47.2717501
END:VEVENT
BEGIN:VEVENT
DTSTART;TZID=Europe/Vienna:20251022T183000
DTEND;TZID=Europe/Vienna:20251022T193000
DTSTAMP:20260420T162206
CREATED:20250624T120922Z
LAST-MODIFIED:20250624T120922Z
UID:10000113-1761157800-1761161400@www.raum24.at
SUMMARY:Yoga Mädels
DESCRIPTION:
URL:https://www.raum24.at/veranstaltung/yoga-maedels/2025-10-22/
LOCATION:RAUM24\, Kirchstrasse 24\, Eingang Bahnhofstrasse\, Zirl\, Tirol\, 6170\, Österreich
ATTACH;FMTTYPE=image/jpeg:https://www.raum24.at/raum24/wp-content/uploads/2025/05/Veronika-Hochenegger.jpg
GEO:47.2717501;11.2418175
X-APPLE-STRUCTURED-LOCATION;VALUE=URI;X-ADDRESS=RAUM24 Kirchstrasse 24 Eingang Bahnhofstrasse Zirl Tirol 6170 Österreich;X-APPLE-RADIUS=500;X-TITLE=Kirchstrasse 24\, Eingang Bahnhofstrasse:geo:11.2418175,47.2717501
END:VEVENT
END:VCALENDAR