
	

BEGIN:VCALENDAR
VERSION:2.0
PRODID:-//RAUM24 - ECPv6.15.11//NONSGML v1.0//EN
CALSCALE:GREGORIAN
METHOD:PUBLISH
X-WR-CALNAME:RAUM24
X-ORIGINAL-URL:https://www.raum24.at
X-WR-CALDESC:Veranstaltungen für RAUM24
REFRESH-INTERVAL;VALUE=DURATION:PT1H
X-Robots-Tag:noindex
X-PUBLISHED-TTL:PT1H
BEGIN:VTIMEZONE
TZID:Europe/Vienna
BEGIN:DAYLIGHT
TZOFFSETFROM:+0100
TZOFFSETTO:+0200
TZNAME:CEST
DTSTART:20240331T010000
END:DAYLIGHT
BEGIN:STANDARD
TZOFFSETFROM:+0200
TZOFFSETTO:+0100
TZNAME:CET
DTSTART:20241027T010000
END:STANDARD
BEGIN:DAYLIGHT
TZOFFSETFROM:+0100
TZOFFSETTO:+0200
TZNAME:CEST
DTSTART:20250330T010000
END:DAYLIGHT
BEGIN:STANDARD
TZOFFSETFROM:+0200
TZOFFSETTO:+0100
TZNAME:CET
DTSTART:20251026T010000
END:STANDARD
BEGIN:DAYLIGHT
TZOFFSETFROM:+0100
TZOFFSETTO:+0200
TZNAME:CEST
DTSTART:20260329T010000
END:DAYLIGHT
BEGIN:STANDARD
TZOFFSETFROM:+0200
TZOFFSETTO:+0100
TZNAME:CET
DTSTART:20261025T010000
END:STANDARD
END:VTIMEZONE
BEGIN:VEVENT
DTSTART;TZID=Europe/Vienna:20250602T170000
DTEND;TZID=Europe/Vienna:20250602T175000
DTSTAMP:20260425T034332
CREATED:20250430T083013Z
LAST-MODIFIED:20250430T083015Z
UID:10000290-1748883600-1748886600@www.raum24.at
SUMMARY:Meditationskurs mit buddhistischer Psychologie
DESCRIPTION:
URL:https://www.raum24.at/veranstaltung/meditationskurs-mit-buddhistischer-psychologie/2025-06-02/
LOCATION:RAUM24\, Kirchstrasse 24\, Zirl\, Tirol\, 6170\, Österreich
GEO:47.2717603;11.2418224
X-APPLE-STRUCTURED-LOCATION;VALUE=URI;X-ADDRESS=RAUM24 Kirchstrasse 24 Zirl Tirol 6170 Österreich;X-APPLE-RADIUS=500;X-TITLE=Kirchstrasse 24:geo:11.2418224,47.2717603
END:VEVENT
BEGIN:VEVENT
DTSTART;TZID=Europe/Vienna:20250616T170000
DTEND;TZID=Europe/Vienna:20250616T175000
DTSTAMP:20260425T034332
CREATED:20250430T083013Z
LAST-MODIFIED:20250430T083015Z
UID:10000291-1750093200-1750096200@www.raum24.at
SUMMARY:Meditationskurs mit buddhistischer Psychologie
DESCRIPTION:
URL:https://www.raum24.at/veranstaltung/meditationskurs-mit-buddhistischer-psychologie/2025-06-16/
LOCATION:RAUM24\, Kirchstrasse 24\, Zirl\, Tirol\, 6170\, Österreich
GEO:47.2717603;11.2418224
X-APPLE-STRUCTURED-LOCATION;VALUE=URI;X-ADDRESS=RAUM24 Kirchstrasse 24 Zirl Tirol 6170 Österreich;X-APPLE-RADIUS=500;X-TITLE=Kirchstrasse 24:geo:11.2418224,47.2717603
END:VEVENT
BEGIN:VEVENT
DTSTART;TZID=Europe/Vienna:20250623T170000
DTEND;TZID=Europe/Vienna:20250623T175000
DTSTAMP:20260425T034332
CREATED:20250430T083013Z
LAST-MODIFIED:20250430T083015Z
UID:10000292-1750698000-1750701000@www.raum24.at
SUMMARY:Meditationskurs mit buddhistischer Psychologie
DESCRIPTION:
URL:https://www.raum24.at/veranstaltung/meditationskurs-mit-buddhistischer-psychologie/2025-06-23/
LOCATION:RAUM24\, Kirchstrasse 24\, Zirl\, Tirol\, 6170\, Österreich
GEO:47.2717603;11.2418224
X-APPLE-STRUCTURED-LOCATION;VALUE=URI;X-ADDRESS=RAUM24 Kirchstrasse 24 Zirl Tirol 6170 Österreich;X-APPLE-RADIUS=500;X-TITLE=Kirchstrasse 24:geo:11.2418224,47.2717603
END:VEVENT
BEGIN:VEVENT
DTSTART;TZID=Europe/Vienna:20250630T170000
DTEND;TZID=Europe/Vienna:20250630T175000
DTSTAMP:20260425T034332
CREATED:20250430T083013Z
LAST-MODIFIED:20250430T083015Z
UID:10000293-1751302800-1751305800@www.raum24.at
SUMMARY:Meditationskurs mit buddhistischer Psychologie
DESCRIPTION:
URL:https://www.raum24.at/veranstaltung/meditationskurs-mit-buddhistischer-psychologie/2025-06-30/
LOCATION:RAUM24\, Kirchstrasse 24\, Zirl\, Tirol\, 6170\, Österreich
GEO:47.2717603;11.2418224
X-APPLE-STRUCTURED-LOCATION;VALUE=URI;X-ADDRESS=RAUM24 Kirchstrasse 24 Zirl Tirol 6170 Österreich;X-APPLE-RADIUS=500;X-TITLE=Kirchstrasse 24:geo:11.2418224,47.2717603
END:VEVENT
END:VCALENDAR