
	

BEGIN:VCALENDAR
VERSION:2.0
PRODID:-//RAUM24 - ECPv6.15.11//NONSGML v1.0//EN
CALSCALE:GREGORIAN
METHOD:PUBLISH
X-WR-CALNAME:RAUM24
X-ORIGINAL-URL:https://www.raum24.at
X-WR-CALDESC:Veranstaltungen für RAUM24
REFRESH-INTERVAL;VALUE=DURATION:PT1H
X-Robots-Tag:noindex
X-PUBLISHED-TTL:PT1H
BEGIN:VTIMEZONE
TZID:Europe/Vienna
BEGIN:DAYLIGHT
TZOFFSETFROM:+0100
TZOFFSETTO:+0200
TZNAME:CEST
DTSTART:20250330T010000
END:DAYLIGHT
BEGIN:STANDARD
TZOFFSETFROM:+0200
TZOFFSETTO:+0100
TZNAME:CET
DTSTART:20251026T010000
END:STANDARD
BEGIN:DAYLIGHT
TZOFFSETFROM:+0100
TZOFFSETTO:+0200
TZNAME:CEST
DTSTART:20260329T010000
END:DAYLIGHT
BEGIN:STANDARD
TZOFFSETFROM:+0200
TZOFFSETTO:+0100
TZNAME:CET
DTSTART:20261025T010000
END:STANDARD
BEGIN:DAYLIGHT
TZOFFSETFROM:+0100
TZOFFSETTO:+0200
TZNAME:CEST
DTSTART:20270328T010000
END:DAYLIGHT
BEGIN:STANDARD
TZOFFSETFROM:+0200
TZOFFSETTO:+0100
TZNAME:CET
DTSTART:20271031T010000
END:STANDARD
END:VTIMEZONE
BEGIN:VEVENT
DTSTART;TZID=Europe/Vienna:20260306T093000
DTEND;TZID=Europe/Vienna:20260306T110000
DTSTAMP:20260424T174540
CREATED:20260124T093956Z
LAST-MODIFIED:20260124T093956Z
UID:10000662-1772789400-1772794800@www.raum24.at
SUMMARY:Colazione Italiana in Kooperation mit der Erwachsenenschule Zirl
DESCRIPTION:https://erwachsenenschulen.at/veranstaltungs-details/?eid=444385&vid=3221 \n  \nColazione Italiana\nUngezwungene Konversation auf Italienisch bei Cappuccino im Raum 24. Ogni mese ci incontriamo al RAUM24 per parlare Italiano. Die Termine werden kurzfristig festgelegt. (1x im monatlich am Freitag) Bei Interesse nehmen wir sie gerne in den Verteiler auf. \nNächste Termine: 16.Jänner\, 13.Februar\, 6.März\, 17.April\, 8.Mai\, 12.Juni\, 3.Juli
URL:https://www.raum24.at/veranstaltung/colazione-italiana-in-kooperation-mit-der-erwachsenenschule-zirl/2026-03-06/
LOCATION:RAUM24\, Kirchstrasse 24\, Eingang Bahnhofstrasse\, Zirl\, Tirol\, 6170\, Österreich
ATTACH;FMTTYPE=image/jpeg:https://www.raum24.at/raum24/wp-content/uploads/2024/11/RAUM24-gemeinsam-kochen.jpg
GEO:47.2717501;11.2418175
X-APPLE-STRUCTURED-LOCATION;VALUE=URI;X-ADDRESS=RAUM24 Kirchstrasse 24 Eingang Bahnhofstrasse Zirl Tirol 6170 Österreich;X-APPLE-RADIUS=500;X-TITLE=Kirchstrasse 24\, Eingang Bahnhofstrasse:geo:11.2418175,47.2717501
END:VEVENT
END:VCALENDAR