
	

BEGIN:VCALENDAR
VERSION:2.0
PRODID:-//RAUM24 - ECPv6.15.11//NONSGML v1.0//EN
CALSCALE:GREGORIAN
METHOD:PUBLISH
X-ORIGINAL-URL:https://www.raum24.at
X-WR-CALDESC:Veranstaltungen für RAUM24
REFRESH-INTERVAL;VALUE=DURATION:PT1H
X-Robots-Tag:noindex
X-PUBLISHED-TTL:PT1H
BEGIN:VTIMEZONE
TZID:Europe/Vienna
BEGIN:DAYLIGHT
TZOFFSETFROM:+0100
TZOFFSETTO:+0200
TZNAME:CEST
DTSTART:20260329T010000
END:DAYLIGHT
BEGIN:STANDARD
TZOFFSETFROM:+0200
TZOFFSETTO:+0100
TZNAME:CET
DTSTART:20261025T010000
END:STANDARD
BEGIN:DAYLIGHT
TZOFFSETFROM:+0100
TZOFFSETTO:+0200
TZNAME:CEST
DTSTART:20270328T010000
END:DAYLIGHT
BEGIN:STANDARD
TZOFFSETFROM:+0200
TZOFFSETTO:+0100
TZNAME:CET
DTSTART:20271031T010000
END:STANDARD
BEGIN:DAYLIGHT
TZOFFSETFROM:+0100
TZOFFSETTO:+0200
TZNAME:CEST
DTSTART:20280326T010000
END:DAYLIGHT
BEGIN:STANDARD
TZOFFSETFROM:+0200
TZOFFSETTO:+0100
TZNAME:CET
DTSTART:20281029T010000
END:STANDARD
END:VTIMEZONE
BEGIN:VEVENT
DTSTART;TZID=Europe/Vienna:20270505T150000
DTEND;TZID=Europe/Vienna:20270505T160000
DTSTAMP:20260424T142323
CREATED:20260303T133355Z
LAST-MODIFIED:20260303T133356Z
UID:10000728-1809529200-1809532800@www.raum24.at
SUMMARY:nappy dancers mit Simone
DESCRIPTION:
URL:https://www.raum24.at/veranstaltung/nappy-dancers-mit-simone/2027-05-05/
LOCATION:RAUM24\, Kirchstrasse 24\, Eingang Bahnhofstrasse\, Zirl\, Tirol\, 6170\, Österreich
GEO:47.2717501;11.2418175
X-APPLE-STRUCTURED-LOCATION;VALUE=URI;X-ADDRESS=RAUM24 Kirchstrasse 24 Eingang Bahnhofstrasse Zirl Tirol 6170 Österreich;X-APPLE-RADIUS=500;X-TITLE=Kirchstrasse 24\, Eingang Bahnhofstrasse:geo:11.2418175,47.2717501
END:VEVENT
BEGIN:VEVENT
DTSTART;TZID=Europe/Vienna:20270512T150000
DTEND;TZID=Europe/Vienna:20270512T160000
DTSTAMP:20260424T142323
CREATED:20260303T133355Z
LAST-MODIFIED:20260303T133356Z
UID:10000729-1810134000-1810137600@www.raum24.at
SUMMARY:nappy dancers mit Simone
DESCRIPTION:
URL:https://www.raum24.at/veranstaltung/nappy-dancers-mit-simone/2027-05-12/
LOCATION:RAUM24\, Kirchstrasse 24\, Eingang Bahnhofstrasse\, Zirl\, Tirol\, 6170\, Österreich
GEO:47.2717501;11.2418175
X-APPLE-STRUCTURED-LOCATION;VALUE=URI;X-ADDRESS=RAUM24 Kirchstrasse 24 Eingang Bahnhofstrasse Zirl Tirol 6170 Österreich;X-APPLE-RADIUS=500;X-TITLE=Kirchstrasse 24\, Eingang Bahnhofstrasse:geo:11.2418175,47.2717501
END:VEVENT
BEGIN:VEVENT
DTSTART;TZID=Europe/Vienna:20270519T150000
DTEND;TZID=Europe/Vienna:20270519T160000
DTSTAMP:20260424T142323
CREATED:20260303T133355Z
LAST-MODIFIED:20260303T133356Z
UID:10000730-1810738800-1810742400@www.raum24.at
SUMMARY:nappy dancers mit Simone
DESCRIPTION:
URL:https://www.raum24.at/veranstaltung/nappy-dancers-mit-simone/2027-05-19/
LOCATION:RAUM24\, Kirchstrasse 24\, Eingang Bahnhofstrasse\, Zirl\, Tirol\, 6170\, Österreich
GEO:47.2717501;11.2418175
X-APPLE-STRUCTURED-LOCATION;VALUE=URI;X-ADDRESS=RAUM24 Kirchstrasse 24 Eingang Bahnhofstrasse Zirl Tirol 6170 Österreich;X-APPLE-RADIUS=500;X-TITLE=Kirchstrasse 24\, Eingang Bahnhofstrasse:geo:11.2418175,47.2717501
END:VEVENT
BEGIN:VEVENT
DTSTART;TZID=Europe/Vienna:20270526T150000
DTEND;TZID=Europe/Vienna:20270526T160000
DTSTAMP:20260424T142324
CREATED:20260303T133355Z
LAST-MODIFIED:20260303T133356Z
UID:10000731-1811343600-1811347200@www.raum24.at
SUMMARY:nappy dancers mit Simone
DESCRIPTION:
URL:https://www.raum24.at/veranstaltung/nappy-dancers-mit-simone/2027-05-26/
LOCATION:RAUM24\, Kirchstrasse 24\, Eingang Bahnhofstrasse\, Zirl\, Tirol\, 6170\, Österreich
GEO:47.2717501;11.2418175
X-APPLE-STRUCTURED-LOCATION;VALUE=URI;X-ADDRESS=RAUM24 Kirchstrasse 24 Eingang Bahnhofstrasse Zirl Tirol 6170 Österreich;X-APPLE-RADIUS=500;X-TITLE=Kirchstrasse 24\, Eingang Bahnhofstrasse:geo:11.2418175,47.2717501
END:VEVENT
END:VCALENDAR